BEGIN:VCALENDAR
VERSION:2.0
PRODID:-//Plone.org//NONSGML plone.app.event//EN
X-WR-TIMEZONE:Europe/Berlin
BEGIN:VEVENT
SUMMARY:BA Abschlussvortrag Yvonne Rieck / Alexander Küchler
DTSTART;TZID=Europe/Berlin;VALUE=DATE-TIME:20220329T090000
DTEND;TZID=Europe/Berlin;VALUE=DATE-TIME:20220329T100000
DTSTAMP;VALUE=DATE-TIME:20260422T060034Z
UID:1681524E-8D4A-4B68-A69F-BF474A467B7B
CREATED;VALUE=DATE-TIME:20220211T110002Z
DESCRIPTION:Title: Dynamic Identification of Sources and Sinks for Data Fl
 ow Analysis on iOS Devices 
LAST-MODIFIED;VALUE=DATE-TIME:20220211T110002Z
LOCATION:per Videokonferenz 
URL:https://www.sec.in.tum.de/i20/events/31957781
END:VEVENT
BEGIN:VTIMEZONE
TZID:Europe/Berlin
X-LIC-LOCATION:Europe/Berlin
BEGIN:DAYLIGHT
DTSTART;VALUE=DATE-TIME:20220327T030000
TZNAME:CEST
TZOFFSETFROM:+0100
TZOFFSETTO:+0200
END:DAYLIGHT
END:VTIMEZONE
END:VCALENDAR
